BEGIN:VCALENDAR
VERSION:2.0
PRODID:-//Groene Agenda Drechtsteden - ECPv6.15.20//NONSGML v1.0//EN
CALSCALE:GREGORIAN
METHOD:PUBLISH
X-WR-CALNAME:Groene Agenda Drechtsteden
X-ORIGINAL-URL:https://groeneagendadrechtsteden.nl
X-WR-CALDESC:Evenementen voor Groene Agenda Drechtsteden
REFRESH-INTERVAL;VALUE=DURATION:PT1H
X-Robots-Tag:noindex
X-PUBLISHED-TTL:PT1H
BEGIN:VTIMEZONE
TZID:Europe/Amsterdam
BEGIN:DAYLIGHT
TZOFFSETFROM:+0100
TZOFFSETTO:+0200
TZNAME:CEST
DTSTART:20250330T010000
END:DAYLIGHT
BEGIN:STANDARD
TZOFFSETFROM:+0200
TZOFFSETTO:+0100
TZNAME:CET
DTSTART:20251026T010000
END:STANDARD
BEGIN:DAYLIGHT
TZOFFSETFROM:+0100
TZOFFSETTO:+0200
TZNAME:CEST
DTSTART:20260329T010000
END:DAYLIGHT
BEGIN:STANDARD
TZOFFSETFROM:+0200
TZOFFSETTO:+0100
TZNAME:CET
DTSTART:20261025T010000
END:STANDARD
BEGIN:DAYLIGHT
TZOFFSETFROM:+0100
TZOFFSETTO:+0200
TZNAME:CEST
DTSTART:20270328T010000
END:DAYLIGHT
BEGIN:STANDARD
TZOFFSETFROM:+0200
TZOFFSETTO:+0100
TZNAME:CET
DTSTART:20271031T010000
END:STANDARD
END:VTIMEZONE
BEGIN:VEVENT
DTSTART;TZID=Europe/Amsterdam:20260412T100000
DTEND;TZID=Europe/Amsterdam:20261031T123000
DTSTAMP:20260423T012654
CREATED:20260324T121819Z
LAST-MODIFIED:20260324T144653Z
UID:1060-1775988000-1793449800@groeneagendadrechtsteden.nl
SUMMARY:Seizoencursus ecologische siertuin in het Oogstpark VELT
DESCRIPTION:         Ecologische siertuin in de praktijk met praktijkbegeleider Caroline de Vlaam \nKom meewerken aan een nieuw siertuin-project in het  Oogstpark . In 8 maandelijkse sessies leer en werk je mee in en aan de nieuwe tuin. We maken de plek klaar\, we leggen de paadjes aan\, we planten\, zaaien en zorgen dat alles floreert. Bloeiende planten voor de pluk zijn  in het beplantingsplan volop aanwezig. Probleempjes en mislukking horen erbij. Elke sessie wordt er aandacht besteed aan een tuin onderwerp van het seizoen. We gaan vooral samen aan de slag met wat er buiten nodig is voor een fijne tuin.\nNatuurlijk is er ruimte om tips te ontvangen voor de aanleg van je eigen siertuin.\nWe starten met twee groepen: één op vrijdag en één op zondag. Elke groep gaat van start bij minimaal 8 deelnemers. In overleg is het mogelijk om een keer van dag te ruilen. \nOogstpark\, Oude Veerweg 1b\, Dordrecht.\n(Parkeren kan op P2). \nDe cursus start vanaf 12 april en vindt plaats op;Iedere tweede zondag van de maand en\niedere vierde vrijdag van de maand. \n– In totaal zijn er 8 cursusdagen\nTijd: Van 10.00 tot 12.30 uur \n\nKosten:   Standaardprijs: € 175\,-\nVELTleden: € 150\,-\nopgeven bij Mieke 0645332735\nm.rolff@upcmail.nl
URL:https://groeneagendadrechtsteden.nl/event/seizoencursus-in-het-oogstpark-velt/
LOCATION:De Oude Beer: Oogstpark en horeca\, Oude Veerweg 1D (P2)\, Dordrecht
ATTACH;FMTTYPE=image/jpeg:https://groeneagendadrechtsteden.nl/wp-content/uploads/2026/03/Suijten-en-Steenbergen-fotografie21-1.jpg
ORGANIZER;CN="VELT":MAILTO:m.rolff@upcmail.nl
END:VEVENT
BEGIN:VEVENT
DTSTART;TZID=Europe/Amsterdam:20260413T100000
DTEND;TZID=Europe/Amsterdam:20261014T120000
DTSTAMP:20260423T012654
CREATED:20260413T122854Z
LAST-MODIFIED:20260413T122854Z
UID:1266-1776074400-1791979200@groeneagendadrechtsteden.nl
SUMMARY:Inventariseren met de werkgroep Stadsnatuur KNNV: Wilgenwende
DESCRIPTION:De KNNV Drechtsteden is momenteel bezig om zicht te krijgen op de diversiteit in het stedelijk gebied. Vooralsnog is gestart met met het in kaart brengen van een aantal gebieden in Dordrecht. \nDe werkgroep is voornamelijk actief in het groei- en bloeiseizoen\, op de woensdag van 10.00 – ca. 12.00 uur. \nDe Wilgenwende is van akkerbouwgebied naar woonwijk getransfomeerd. De woonwijk bevindt zich dicht bij de Nieuwe Dordtse Biesbosch\, een snelweg\, spoorlijn en sportvelden. Sinds twee jaar inventariseren we de nieuwkomers en overlevers in de plantenwereld in dit nieuw ontwikkelde bebouwd gebied. \nWe verzamelen bij de kruising van de Molenzigt met de Heerenhuis. \nMeer informatie over het programma en aanmelden vind je op de website van KNNV Drechtsteden.
URL:https://groeneagendadrechtsteden.nl/event/inventariseren-met-de-werkgroep-stadsnatuur-knnv-wilgenwende/
LOCATION:Wilgenwende
ATTACH;FMTTYPE=image/jpeg:https://groeneagendadrechtsteden.nl/wp-content/uploads/2026/04/IMG-20260318-WA0000.jpg
END:VEVENT
BEGIN:VEVENT
DTSTART;TZID=Europe/Amsterdam:20260423T074500
DTEND;TZID=Europe/Amsterdam:20260423T103000
DTSTAMP:20260423T012654
CREATED:20260316T095217Z
LAST-MODIFIED:20260316T103755Z
UID:952-1776930300-1776940200@groeneagendadrechtsteden.nl
SUMMARY:Jungle Kanotocht
DESCRIPTION:De Hollandse Biesbosch is een ware jungle. Dit ervaar je pas echt vanuit een kano wanneer je door de kreken peddelt. Je gaat onder overhangende takken door en komt langs de rijk begroeide oevers. De gids vertelt onderweg van alles over de Biesbosch. \nEen spannende ontdekkingstocht voor het hele gezin! \nDeze excursie is geschikt voor kinderen vanaf 7 jaar.
URL:https://groeneagendadrechtsteden.nl/event/jungle-kanotocht/
LOCATION:Biesboschcentrum Dordrecht\, Baanhoekweg 53\, Dordrecht\, 3313 LP
ATTACH;FMTTYPE=image/jpeg:https://groeneagendadrechtsteden.nl/wp-content/uploads/2026/03/Jungle-Kanotocht-min-1.jpg
END:VEVENT
BEGIN:VEVENT
DTSTART;TZID=Europe/Amsterdam:20260423T103000
DTEND;TZID=Europe/Amsterdam:20260423T133000
DTSTAMP:20260423T012654
CREATED:20260316T110831Z
LAST-MODIFIED:20260316T110831Z
UID:981-1776940200-1776951000@groeneagendadrechtsteden.nl
SUMMARY:Wetland Struintocht
DESCRIPTION:Met een klein fluisterbootje vaar je naar verschillende vogelgebieden waar de natuur volop in ontwikkeling is. Hier ga je van boord voor een stevige wandeling door de ruige Biesbosch. De gebieden staan vaak in open verbinding met de rivier en zijn mede door het in getij een uitstekend foerageergebied voor watervogels. De route wordt door de gids bepaald afhankelijk van de bereikbaarheid van het gebied. \nTijdens de tocht is er warme chocolademelk met een beverkoek aan boord.
URL:https://groeneagendadrechtsteden.nl/event/wetland-struintocht/
LOCATION:Biesboschcentrum Dordrecht\, Baanhoekweg 53\, Dordrecht\, 3313 LP
ATTACH;FMTTYPE=image/jpeg:https://groeneagendadrechtsteden.nl/wp-content/uploads/2026/03/Wetland-Struintocht-min.jpg
END:VEVENT
BEGIN:VEVENT
DTSTART;TZID=Europe/Amsterdam:20260423T140000
DTEND;TZID=Europe/Amsterdam:20260423T153000
DTSTAMP:20260423T012654
CREATED:20260316T110348Z
LAST-MODIFIED:20260316T110348Z
UID:976-1776952800-1776958200@groeneagendadrechtsteden.nl
SUMMARY:Waterbeestjes expeditie
DESCRIPTION:Ga met een Biesboschgids op zoek naar waterbeestjes. Verwonder je aan de waterkant wat er allemaal rondscharrelt in het water. Met een schepnetje\, loep en zoekkaart kan je ontdekken welk beestje jij hebt gevonden!
URL:https://groeneagendadrechtsteden.nl/event/waterbeestjes-expeditie/
LOCATION:Biesboschcentrum Dordrecht\, Baanhoekweg 53\, Dordrecht\, 3313 LP
ATTACH;FMTTYPE=image/jpeg:https://groeneagendadrechtsteden.nl/wp-content/uploads/2026/03/Waterbeestjes-expeditie-min.jpeg
END:VEVENT
END:VCALENDAR