BEGIN:VCALENDAR
VERSION:2.0
PRODID:-//Groene Agenda Drechtsteden - ECPv6.15.20//NONSGML v1.0//EN
CALSCALE:GREGORIAN
METHOD:PUBLISH
X-WR-CALNAME:Groene Agenda Drechtsteden
X-ORIGINAL-URL:https://groeneagendadrechtsteden.nl
X-WR-CALDESC:Evenementen voor Groene Agenda Drechtsteden
REFRESH-INTERVAL;VALUE=DURATION:PT1H
X-Robots-Tag:noindex
X-PUBLISHED-TTL:PT1H
BEGIN:VTIMEZONE
TZID:Europe/Amsterdam
BEGIN:DAYLIGHT
TZOFFSETFROM:+0100
TZOFFSETTO:+0200
TZNAME:CEST
DTSTART:20250330T010000
END:DAYLIGHT
BEGIN:STANDARD
TZOFFSETFROM:+0200
TZOFFSETTO:+0100
TZNAME:CET
DTSTART:20251026T010000
END:STANDARD
BEGIN:DAYLIGHT
TZOFFSETFROM:+0100
TZOFFSETTO:+0200
TZNAME:CEST
DTSTART:20260329T010000
END:DAYLIGHT
BEGIN:STANDARD
TZOFFSETFROM:+0200
TZOFFSETTO:+0100
TZNAME:CET
DTSTART:20261025T010000
END:STANDARD
BEGIN:DAYLIGHT
TZOFFSETFROM:+0100
TZOFFSETTO:+0200
TZNAME:CEST
DTSTART:20270328T010000
END:DAYLIGHT
BEGIN:STANDARD
TZOFFSETFROM:+0200
TZOFFSETTO:+0100
TZNAME:CET
DTSTART:20271031T010000
END:STANDARD
END:VTIMEZONE
BEGIN:VEVENT
DTSTART;TZID=Europe/Amsterdam:20260503T133000
DTEND;TZID=Europe/Amsterdam:20260503T160000
DTSTAMP:20260423T000319
CREATED:20260422T142033Z
LAST-MODIFIED:20260422T142033Z
UID:1391-1777815000-1777824000@groeneagendadrechtsteden.nl
SUMMARY:Wildernis aan het Water
DESCRIPTION:Ontsnap even aan de drukte en ontdek hoe veelzijdig de natuur in de Biesbosch is. De gids vertelt tijdens de wandeling over het Griendmuseumpad over de verscheidenheid aan planten en dieren in de Biesbosch. Hij deelt zijn kennis en laat zien hoe biodiversiteit ons dagelijks leven raakt. Laat je verrassen door de natuur en ervaar waarom biodiversiteit zo belangrijk is. \nDeze tocht is niet geschikt voor (jonge) kinderen.
URL:https://groeneagendadrechtsteden.nl/event/wildernis-aan-het-water/
LOCATION:Biesboschcentrum Dordrecht\, Baanhoekweg 53\, Dordrecht\, 3313 LP
ATTACH;FMTTYPE=image/png:https://groeneagendadrechtsteden.nl/wp-content/uploads/2026/04/Wildernis-aan-het-water-webshop.png
END:VEVENT
BEGIN:VEVENT
DTSTART;TZID=Europe/Amsterdam:20260510T133000
DTEND;TZID=Europe/Amsterdam:20260510T160000
DTSTAMP:20260423T000319
CREATED:20260422T142148Z
LAST-MODIFIED:20260422T142148Z
UID:1394-1778419800-1778428800@groeneagendadrechtsteden.nl
SUMMARY:Wildernis aan het Water
DESCRIPTION:Ontsnap even aan de drukte en ontdek hoe veelzijdig de natuur in de Biesbosch is. De gids vertelt tijdens de wandeling over het Griendmuseumpad over de verscheidenheid aan planten en dieren in de Biesbosch. Hij deelt zijn kennis en laat zien hoe biodiversiteit ons dagelijks leven raakt. Laat je verrassen door de natuur en ervaar waarom biodiversiteit zo belangrijk is. \nDeze tocht is niet geschikt voor (jonge) kinderen.
URL:https://groeneagendadrechtsteden.nl/event/wildernis-aan-het-water-2/
LOCATION:Biesboschcentrum Dordrecht\, Baanhoekweg 53\, Dordrecht\, 3313 LP
ATTACH;FMTTYPE=image/png:https://groeneagendadrechtsteden.nl/wp-content/uploads/2026/04/Wildernis-aan-het-water-webshop.png
END:VEVENT
BEGIN:VEVENT
DTSTART;TZID=Europe/Amsterdam:20260517T133000
DTEND;TZID=Europe/Amsterdam:20260517T160000
DTSTAMP:20260423T000319
CREATED:20260422T142249Z
LAST-MODIFIED:20260422T142249Z
UID:1396-1779024600-1779033600@groeneagendadrechtsteden.nl
SUMMARY:Wildernis aan het Water
DESCRIPTION:Ontsnap even aan de drukte en ontdek hoe veelzijdig de natuur in de Biesbosch is. De gids vertelt tijdens de wandeling over het Griendmuseumpad over de verscheidenheid aan planten en dieren in de Biesbosch. Hij deelt zijn kennis en laat zien hoe biodiversiteit ons dagelijks leven raakt. Laat je verrassen door de natuur en ervaar waarom biodiversiteit zo belangrijk is. \nDeze tocht is niet geschikt voor (jonge) kinderen.
URL:https://groeneagendadrechtsteden.nl/event/wildernis-aan-het-water-3/
LOCATION:Biesboschcentrum Dordrecht\, Baanhoekweg 53\, Dordrecht\, 3313 LP
ATTACH;FMTTYPE=image/png:https://groeneagendadrechtsteden.nl/wp-content/uploads/2026/04/Wildernis-aan-het-water-webshop.png
END:VEVENT
BEGIN:VEVENT
DTSTART;TZID=Europe/Amsterdam:20260524T133000
DTEND;TZID=Europe/Amsterdam:20260524T160000
DTSTAMP:20260423T000319
CREATED:20260422T142419Z
LAST-MODIFIED:20260422T142419Z
UID:1398-1779629400-1779638400@groeneagendadrechtsteden.nl
SUMMARY:Wildernis aan het Water
DESCRIPTION:Ontsnap even aan de drukte en ontdek hoe veelzijdig de natuur in de Biesbosch is. De gids vertelt tijdens de wandeling over het Griendmuseumpad over de verscheidenheid aan planten en dieren in de Biesbosch. Hij deelt zijn kennis en laat zien hoe biodiversiteit ons dagelijks leven raakt. Laat je verrassen door de natuur en ervaar waarom biodiversiteit zo belangrijk is. \nDeze tocht is niet geschikt voor (jonge) kinderen.
URL:https://groeneagendadrechtsteden.nl/event/wildernis-aan-het-water-4/
LOCATION:Biesboschcentrum Dordrecht\, Baanhoekweg 53\, Dordrecht\, 3313 LP
ATTACH;FMTTYPE=image/png:https://groeneagendadrechtsteden.nl/wp-content/uploads/2026/04/Wildernis-aan-het-water-webshop.png
END:VEVENT
END:VCALENDAR