BEGIN:VCALENDAR
VERSION:2.0
PRODID:-//Groene Agenda Drechtsteden - ECPv6.15.20//NONSGML v1.0//EN
CALSCALE:GREGORIAN
METHOD:PUBLISH
X-ORIGINAL-URL:https://groeneagendadrechtsteden.nl
X-WR-CALDESC:Evenementen voor Groene Agenda Drechtsteden
REFRESH-INTERVAL;VALUE=DURATION:PT1H
X-Robots-Tag:noindex
X-PUBLISHED-TTL:PT1H
BEGIN:VTIMEZONE
TZID:Europe/Amsterdam
BEGIN:DAYLIGHT
TZOFFSETFROM:+0100
TZOFFSETTO:+0200
TZNAME:CEST
DTSTART:20250330T010000
END:DAYLIGHT
BEGIN:STANDARD
TZOFFSETFROM:+0200
TZOFFSETTO:+0100
TZNAME:CET
DTSTART:20251026T010000
END:STANDARD
BEGIN:DAYLIGHT
TZOFFSETFROM:+0100
TZOFFSETTO:+0200
TZNAME:CEST
DTSTART:20260329T010000
END:DAYLIGHT
BEGIN:STANDARD
TZOFFSETFROM:+0200
TZOFFSETTO:+0100
TZNAME:CET
DTSTART:20261025T010000
END:STANDARD
BEGIN:DAYLIGHT
TZOFFSETFROM:+0100
TZOFFSETTO:+0200
TZNAME:CEST
DTSTART:20270328T010000
END:DAYLIGHT
BEGIN:STANDARD
TZOFFSETFROM:+0200
TZOFFSETTO:+0100
TZNAME:CET
DTSTART:20271031T010000
END:STANDARD
END:VTIMEZONE
BEGIN:VEVENT
DTSTART;TZID=Europe/Amsterdam:20260501T103000
DTEND;TZID=Europe/Amsterdam:20260501T133000
DTSTAMP:20260422T235143
CREATED:20260422T141215Z
LAST-MODIFIED:20260422T141215Z
UID:1382-1777631400-1777642200@groeneagendadrechtsteden.nl
SUMMARY:Wetland Struintocht
DESCRIPTION:Met een klein fluisterbootje vaar je naar verschillende vogelgebieden waar de natuur volop in ontwikkeling is. Hier ga je van boord voor een stevige wandeling door de ruige Biesbosch. De gebieden staan vaak in open verbinding met de rivier en zijn mede door het in getij een uitstekend foerageergebied voor watervogels. De route wordt door de gids bepaald afhankelijk van de bereikbaarheid van het gebied. Tijdens de tocht is er warme chocolademelk met een beverkoek aan boord.
URL:https://groeneagendadrechtsteden.nl/event/wetland-struintocht-2/
LOCATION:Biesboschcentrum Dordrecht\, Baanhoekweg 53\, Dordrecht\, 3313 LP
ATTACH;FMTTYPE=image/png:https://groeneagendadrechtsteden.nl/wp-content/uploads/2026/04/Wetland-struintocht-webshop.png
END:VEVENT
BEGIN:VEVENT
DTSTART;TZID=Europe/Amsterdam:20260504T143000
DTEND;TZID=Europe/Amsterdam:20260504T163000
DTSTAMP:20260422T235143
CREATED:20260422T133943Z
LAST-MODIFIED:20260422T133943Z
UID:1361-1777905000-1777912200@groeneagendadrechtsteden.nl
SUMMARY:Verhaal van de Liniecrossers
DESCRIPTION:De Biesbosch speelde een belangrijke rol in de Tweede Wereldoorlog. Tijdens de vaartocht met de open fluisterboot de Sterling vertelt de gids over de ‘crossers’ in de Biesbosch. De liniecrossers voerden tijdens de laatste maanden van de oorlog oversteken uit om informatie\, medicijnen en mensen te vervoeren. Ook zaten er tijdens de Tweede Wereldoorlog onderduikers en verzetsstrijders in dit gebied. Varend door de kreken volg je de route van de crossers.
URL:https://groeneagendadrechtsteden.nl/event/verhaal-van-de-liniecrossers/
LOCATION:Biesboschcentrum Dordrecht\, Baanhoekweg 53\, Dordrecht\, 3313 LP
ATTACH;FMTTYPE=image/png:https://groeneagendadrechtsteden.nl/wp-content/uploads/2026/04/Verhaal-van-de-Liniecrossers-webshop-1.png
END:VEVENT
BEGIN:VEVENT
DTSTART;TZID=Europe/Amsterdam:20260505T143000
DTEND;TZID=Europe/Amsterdam:20260505T163000
DTSTAMP:20260422T235143
CREATED:20260422T134124Z
LAST-MODIFIED:20260422T134124Z
UID:1364-1777991400-1777998600@groeneagendadrechtsteden.nl
SUMMARY:Verhaal van de Liniecrossers
DESCRIPTION:De Biesbosch speelde een belangrijke rol in de Tweede Wereldoorlog. Tijdens de vaartocht met de open fluisterboot de Sterling vertelt de gids over de ‘crossers’ in de Biesbosch. De liniecrossers voerden tijdens de laatste maanden van de oorlog oversteken uit om informatie\, medicijnen en mensen te vervoeren. Ook zaten er tijdens de Tweede Wereldoorlog onderduikers en verzetsstrijders in dit gebied. Varend door de kreken volg je de route van de crossers.
URL:https://groeneagendadrechtsteden.nl/event/verhaal-van-de-liniecrossers-2/
LOCATION:Biesboschcentrum Dordrecht\, Baanhoekweg 53\, Dordrecht\, 3313 LP
ATTACH;FMTTYPE=image/png:https://groeneagendadrechtsteden.nl/wp-content/uploads/2026/04/Verhaal-van-de-Liniecrossers-webshop-1.png
END:VEVENT
BEGIN:VEVENT
DTSTART;TZID=Europe/Amsterdam:20260509T200000
DTEND;TZID=Europe/Amsterdam:20260509T221500
DTSTAMP:20260422T235143
CREATED:20260422T131949Z
LAST-MODIFIED:20260422T132626Z
UID:1350-1778356800-1778364900@groeneagendadrechtsteden.nl
SUMMARY:Kanotocht op zoek naar Bevers
DESCRIPTION:In de avonduren peddel je rustig door de Biesbosch-jungle onder leiding van een gids. Je vaart met de kano door de Biesboschkreken op zoek naar beversporen en bevers. De Biesboschgids vertelt allerlei weetjes over deze grote knagers. \nDe bever wordt actief in de schemering\, met een beetje geluk heb je een ontmoeting met een bever!
URL:https://groeneagendadrechtsteden.nl/event/kanotocht-op-zoek-naar-bevers-2/
LOCATION:Biesboschcentrum Dordrecht\, Baanhoekweg 53\, Dordrecht\, 3313 LP
ATTACH;FMTTYPE=image/jpeg:https://groeneagendadrechtsteden.nl/wp-content/uploads/2026/04/Kanotocht-Op-zoek-naar-bevers.jpg
END:VEVENT
BEGIN:VEVENT
DTSTART;TZID=Europe/Amsterdam:20260510T133000
DTEND;TZID=Europe/Amsterdam:20260510T153000
DTSTAMP:20260422T235143
CREATED:20260422T122718Z
LAST-MODIFIED:20260422T123520Z
UID:1329-1778419800-1778427000@groeneagendadrechtsteden.nl
SUMMARY:Griendeiland Ontdektocht
DESCRIPTION:De Griendeiland Ontdektocht is een leuke vaarwandeltocht voor het hele gezin\, met een speurtocht. De tocht begint met een vaartocht met de open fluisterboot naar de Stenen Keet aan het Wantij. Daarna struin je op eigen gelegenheid over het Griendmuseumpad. Met de speurtocht ontdek je van alles over de Biesbosch. Aan het einde van de wandeling vaar je met het pontje terug naar het Biesboschcentrum.\nVoor de kinderen is er een prijs voor de beste slagzin. De winnaar is bij terugkomst in het Biesboschcentrum bekend.
URL:https://groeneagendadrechtsteden.nl/event/griendeiland-ontdektocht/
LOCATION:Biesboschcentrum Dordrecht\, Baanhoekweg 53\, Dordrecht\, 3313 LP
ATTACH;FMTTYPE=image/jpeg:https://groeneagendadrechtsteden.nl/wp-content/uploads/2026/04/Griendeiland-ontdektocht-.jpg
END:VEVENT
BEGIN:VEVENT
DTSTART;TZID=Europe/Amsterdam:20260514T103000
DTEND;TZID=Europe/Amsterdam:20260514T133000
DTSTAMP:20260422T235143
CREATED:20260422T141341Z
LAST-MODIFIED:20260422T141341Z
UID:1385-1778754600-1778765400@groeneagendadrechtsteden.nl
SUMMARY:Wetland Struintocht
DESCRIPTION:Met een klein fluisterbootje vaar je naar verschillende vogelgebieden waar de natuur volop in ontwikkeling is. Hier ga je van boord voor een stevige wandeling door de ruige Biesbosch. De gebieden staan vaak in open verbinding met de rivier en zijn mede door het in getij een uitstekend foerageergebied voor watervogels. De route wordt door de gids bepaald afhankelijk van de bereikbaarheid van het gebied. Tijdens de tocht is er warme chocolademelk met een beverkoek aan boord.
URL:https://groeneagendadrechtsteden.nl/event/wetland-struintocht-3/
LOCATION:Biesboschcentrum Dordrecht\, Baanhoekweg 53\, Dordrecht\, 3313 LP
ATTACH;FMTTYPE=image/png:https://groeneagendadrechtsteden.nl/wp-content/uploads/2026/04/Wetland-struintocht-webshop.png
END:VEVENT
BEGIN:VEVENT
DTSTART;TZID=Europe/Amsterdam:20260515T103000
DTEND;TZID=Europe/Amsterdam:20260515T133000
DTSTAMP:20260422T235143
CREATED:20260422T141457Z
LAST-MODIFIED:20260422T141457Z
UID:1387-1778841000-1778851800@groeneagendadrechtsteden.nl
SUMMARY:Wetland Struintocht
DESCRIPTION:Met een klein fluisterbootje vaar je naar verschillende vogelgebieden waar de natuur volop in ontwikkeling is. Hier ga je van boord voor een stevige wandeling door de ruige Biesbosch. De gebieden staan vaak in open verbinding met de rivier en zijn mede door het in getij een uitstekend foerageergebied voor watervogels. De route wordt door de gids bepaald afhankelijk van de bereikbaarheid van het gebied. Tijdens de tocht is er warme chocolademelk met een beverkoek aan boord.
URL:https://groeneagendadrechtsteden.nl/event/wetland-struintocht-4/
LOCATION:Biesboschcentrum Dordrecht\, Baanhoekweg 53\, Dordrecht\, 3313 LP
ATTACH;FMTTYPE=image/png:https://groeneagendadrechtsteden.nl/wp-content/uploads/2026/04/Wetland-struintocht-webshop.png
END:VEVENT
BEGIN:VEVENT
DTSTART;TZID=Europe/Amsterdam:20260522T103000
DTEND;TZID=Europe/Amsterdam:20260522T133000
DTSTAMP:20260422T235143
CREATED:20260422T141650Z
LAST-MODIFIED:20260422T141650Z
UID:1389-1779445800-1779456600@groeneagendadrechtsteden.nl
SUMMARY:Wetland Struintocht
DESCRIPTION:Met een klein fluisterbootje vaar je naar verschillende vogelgebieden waar de natuur volop in ontwikkeling is. Hier ga je van boord voor een stevige wandeling door de ruige Biesbosch. De gebieden staan vaak in open verbinding met de rivier en zijn mede door het in getij een uitstekend foerageergebied voor watervogels. De route wordt door de gids bepaald afhankelijk van de bereikbaarheid van het gebied. Tijdens de tocht is er warme chocolademelk met een beverkoek aan boord.
URL:https://groeneagendadrechtsteden.nl/event/wetland-struintocht-5/
LOCATION:Biesboschcentrum Dordrecht\, Baanhoekweg 53\, Dordrecht\, 3313 LP
ATTACH;FMTTYPE=image/png:https://groeneagendadrechtsteden.nl/wp-content/uploads/2026/04/Wetland-struintocht-webshop.png
END:VEVENT
BEGIN:VEVENT
DTSTART;TZID=Europe/Amsterdam:20260524T133000
DTEND;TZID=Europe/Amsterdam:20260524T153000
DTSTAMP:20260422T235143
CREATED:20260422T123746Z
LAST-MODIFIED:20260422T123746Z
UID:1337-1779629400-1779636600@groeneagendadrechtsteden.nl
SUMMARY:Griendeiland Ontdektocht
DESCRIPTION:De Griendeiland Ontdektocht is een leuke vaarwandeltocht voor het hele gezin\, met een speurtocht. De tocht begint met een vaartocht met de open fluisterboot naar de Stenen Keet aan het Wantij. Daarna struin je op eigen gelegenheid over het Griendmuseumpad. Met de speurtocht ontdek je van alles over de Biesbosch. Aan het einde van de wandeling vaar je met het pontje terug naar het Biesboschcentrum.\nVoor de kinderen is er een prijs voor de beste slagzin. De winnaar is bij terugkomst in het Biesboschcentrum bekend.
URL:https://groeneagendadrechtsteden.nl/event/griendeiland-ontdektocht-2/
LOCATION:Biesboschcentrum Dordrecht\, Baanhoekweg 53\, Dordrecht\, 3313 LP
ATTACH;FMTTYPE=image/jpeg:https://groeneagendadrechtsteden.nl/wp-content/uploads/2026/04/Griendeiland-ontdektocht-.jpg
END:VEVENT
BEGIN:VEVENT
DTSTART;TZID=Europe/Amsterdam:20260524T200000
DTEND;TZID=Europe/Amsterdam:20260524T221500
DTSTAMP:20260422T235143
CREATED:20260422T132257Z
LAST-MODIFIED:20260422T132413Z
UID:1353-1779652800-1779660900@groeneagendadrechtsteden.nl
SUMMARY:Kanotocht op zoek naar Bevers
DESCRIPTION:In de avonduren peddel je rustig door de Biesbosch-jungle onder leiding van een gids. Je vaart met de kano door de Biesboschkreken op zoek naar beversporen en bevers. De Biesboschgids vertelt allerlei weetjes over deze grote knagers. \nDe bever wordt actief in de schemering\, met een beetje geluk heb je een ontmoeting met een bever!
URL:https://groeneagendadrechtsteden.nl/event/kanotocht-op-zoek-naar-bevers-3/
LOCATION:Biesboschcentrum Dordrecht\, Baanhoekweg 53\, Dordrecht\, 3313 LP
ATTACH;FMTTYPE=image/jpeg:https://groeneagendadrechtsteden.nl/wp-content/uploads/2026/04/Kanotocht-Op-zoek-naar-bevers.jpg
END:VEVENT
BEGIN:VEVENT
DTSTART;TZID=Europe/Amsterdam:20260525T133000
DTEND;TZID=Europe/Amsterdam:20260525T153000
DTSTAMP:20260422T235143
CREATED:20260422T120254Z
LAST-MODIFIED:20260422T120254Z
UID:1322-1779715800-1779723000@groeneagendadrechtsteden.nl
SUMMARY:Biesbosch Eilandtocht
DESCRIPTION:Vaar met de Sterling\, een open fluisterboot\, door de kreken en langs de ruige wilgenvloedbossen van de Biesbosch. Stap van boord bij de originele griendwerkerskeet en wandel terug over het Griendmuseumpad met zijn rijke historie en bijzondere biesboschnatuur.\nIn dit deel van de Biesbosch is de getijdenwerking van eb en vloed het grootst. Tijdens de wandeling kom je langs oude grienden\, kleine kreekjes en wie weet zie je onderweg wel beversporen!
URL:https://groeneagendadrechtsteden.nl/event/biesbosch-eilandtocht/
LOCATION:Biesboschcentrum Dordrecht\, Baanhoekweg 53\, Dordrecht\, 3313 LP
ATTACH;FMTTYPE=image/jpeg:https://groeneagendadrechtsteden.nl/wp-content/uploads/2026/04/Biesbosch-Eilandtocht-scaled.jpg
END:VEVENT
END:VCALENDAR